BEGIN:VCALENDAR
VERSION:2.0
PRODID:-//http://XXX//Event
METHOD:PUBLISH
BEGIN:VEVENT
DTSTART;VALUE=DATE:20260209
DTEND;VALUE=DATE:20260213
DESCRIPTION;LANGUAGE=en-us:Advanced Therapies Week 2026
SUMMARY;LANGUAGE=en-us:Advanced Therapies Week 2026
LOCATION:San Diego\, CA
END:VEVENT
END:VCALENDAR