BEGIN:VCALENDAR
VERSION:2.0
PRODID:-//http://XXX//Event
METHOD:PUBLISH
BEGIN:VEVENT
DTSTART;VALUE=DATE:20220927
DTEND;VALUE=DATE:20221001
DESCRIPTION;LANGUAGE=en-us:BioProcess International 2022
SUMMARY;LANGUAGE=en-us:BioProcess International 2022
LOCATION:
END:VEVENT
END:VCALENDAR